Workbook

Sheet Financial Statements
I1: Documentation
B2: Power Assets | I2: This is an area where we can put documentation.
B3: Statements of Movements in Equity
B4: as at 31 December
D5: =+E5+1 -> 2018 | E5: =+F5+1 -> 2017 | F5: =+G5+1 -> 2016 | G5: 2015
D6: =+G6 -> HK$'000 | E6: =+G6 -> HK$'000 | F6: =+G6 -> HK$'000 | G6: HK$'000
B8: Opening balance | D8: =SUM(E29:E30) -> 95816 | E8: =F29 -> 118411 | F8: =G29 -> 123597 | G8: 123088
B9: Changes in equity
B10: Profit for the year | D10: 7636 | E10: 8319 | F10: 6417 | G10: 7732
B11: Other comprehensive income
A12: O | B12: Remeasurement of net defined benefit asset/liability | D12: -20 | E12: 29 | F12: -3 | G12: -17
A13: F | B13: Share of other comprehensive income of joint ventures and associates that will not be reclassified to profit or loss | D13: 696 | E13: 32 | F13: -1418 | G13: 410
A14: O | B14: Income tax relating to items that will not be reclassified to profit or loss | D14: -119 | E14: -9 | F14: 242 | G14: -97
A15: O | B15: Exchange difference on translating operations outside Hong Kong, including joint ventures and associates | D15: -3592 | E15: 4111 | F15: -5738 | G15: -3004
A16: O | B16: Net investment hedges | D16: 1971 | E16: -2427 | F16: 1607 | G16: 1039
A17: O | B17: Cost of hedging | D17: 155 | E17: 0 | F17: 0 | G17: 0
A18: O | B18: Cash flow hedges:Net movement of hedging reserve related to hedging instruments recognised during the current year | D18: -55 | E18: -34 | F18: -33 | G18: 116
A19: F | B19: Share of other comprehensive income of joint ventures and associates | D19: -246 | E19: -303 | F19: -546 | G19: 149
A20: O | B20: Income tax relating to items that may be reclassified subsequently to profit or loss | D20: 97 | E20: 83 | F20: 91 | G20: -78
B21: Total other comprehensive income | D21: =D12+D13+D14+D15+D16+D17+D18+D19+D20 -> -1113 | E21: =E12+E13+E14+E15+E16+E17+E18+E19+E20 -> 1482 | F21: =F12+F13+F14+F15+F16+F17+F18+F19+F20 -> -5798 | G21: =G12+G13+G14+G15+G16+G17+G18+G19+G20 -> -1482 | I21: Notes Area
B22: Total comprehensive income | D22: =D10+D21 -> 6523 | E22: =E10+E21 -> 9801 | F22: =F10+F21 -> 619 | G22: =G10+G21 -> 6250 | I22: This area is designed as a space to write notes to yourself. Hopefully this will save you the hassle of attempting to find the pen and paper that is somewhere in the bottom of your bag. Checks: SOCIE Profit for the year = INCOME Profit for the year attributable to equity shareholders of the Company ✓ SOCIE Total comprehensive income = INCOME Total comprehensive income for the year attributable to equity shareholders of the Company ✓ SOCIE Closing balance = BALANCE Total equity attributable to equity shareholders of the Company Financial Income - separated out
B23: Special interim dividend in respect of the previous year declared and paid | D23: -12806 | E23: -10671
B24: Final dividend in respect of the previous year approved and paid | D24: -4333 | E24: -4311 | F24: -4311 | G24: -4290
B25: Interim dividend paid | D25: -1643 | E25: -1643 | F25: -1494 | G25: -1451
B26: Special interim dividend paid | E26: -16007
B27: Special interim dividend declared after the end of the reporting period
B28: Proposed final dividend
B29: Closing balance | D29: =D8+D22+D23+D24+D25 -> 83557 | E29: =E8+E22+E23+E24+E25+E26 -> 95580 | F29: =F8+F22+F24+F25 -> 118411 | G29: =G8+G22+G24+G25 -> 123597
B30: Impact on initial application of HKFRS 9 | E30: 236
B32: =+B2 -> Power Assets
B33: Balance Sheets
B34: as at 31 December
D35: =+D5 -> 2018 | E35: =+E5 -> 2017 | F35: =+F5 -> 2016 | G35: =+G5 -> 2015
D36: =+G6 -> HK$'000 | E36: =+G6 -> HK$'000 | F36: =+G6 -> HK$'000 | G36: =+G6 -> HK$'000
B38: Non current assets
B39: Property, plant and equipment and leasehold land
A40: O | B40: Property, plant and equipment | D40: 14 | E40: 14 | F40: 12 | G40: 12
A41: F | B41: Interest in leasehold land held for own use under finance leases | F41: 17 | G41: 18
D42: =SUM(D40:D41) -> 14 | E42: =SUM(E40:E41) -> 14 | F42: =SUM(F40:F41) -> 29 | G42: =SUM(G40:G41) -> 30
A43: F | B43: Interest in joint ventures | D43: 55697 | E43: 56415 | F43: 42739 | G43: 42629
...

Sheet Restated Financial Statements
P1: Documentation
B2: =+'Financial Statements'!B2:G2 -> Power Assets | P2: This is an area where we can put documentation. I have chosen to allocate activites relating to "joint ventures or associates" as financial rather than operating because when looking at my companys full financial statements it under not 4. notes that "Group revenue represents interest income from loans granted to joint ventures and associates, dividends from other financial assets". I understand this to mean that the income has been generated from the interest the company earns from loans they have granted - meaning this would be financial.
B3: Restated Statements of Movements in Equity
B4: =+'Financial Statements'!B4:G4 -> as at 31 December
D5: 2004 | E5: 2005 | F5: 2006 | G5: 2007 | H5: 2008 | I5: 2009 | J5: =+'Financial Statements'!D5 -> 2018 | K5: =+'Financial Statements'!E5 -> 2017 | L5: =+'Financial Statements'!F5 -> 2016 | M5: =+'Financial Statements'!G5 -> 2015
D6: $'000 | E6: $'000 | F6: $'000 | G6: $'000 | H6: $'000 | I6: $'000 | J6: =+K6 -> HK$'000 | K6: =+M6 -> HK$'000 | L6: =+M6 -> HK$'000 | M6: =+'Financial Statements'!G6 -> HK$'000
B8: ='Financial Statements'!B8 -> Opening balance | J8: ='Financial Statements'!D8 -> 95816 | K8: ='Financial Statements'!E8 -> 118411 | L8: ='Financial Statements'!F8 -> 123597 | M8: ='Financial Statements'!G8 -> 123088
B9: ='Financial Statements'!B9 -> Changes in equity
B10: ='Financial Statements'!B10 -> Profit for the year | J10: ='Financial Statements'!D10 -> 7636 | K10: ='Financial Statements'!E10 -> 8319 | L10: ='Financial Statements'!F10 -> 6417 | M10: ='Financial Statements'!G10 -> 7732
B11: Other Operating Comprehensive Income
B12: ='Financial Statements'!B12 -> Remeasurement of net defined benefit asset/liability | J12: ='Financial Statements'!D12 -> -20 | K12: ='Financial Statements'!E12 -> 29 | L12: ='Financial Statements'!F12 -> -3 | M12: ='Financial Statements'!G12 -> -17
B13: ='Financial Statements'!B15 -> Exchange difference on translating operations outside Hong Kong, including joint ventures and associates | J13: ='Financial Statements'!D15 -> -3592 | K13: ='Financial Statements'!E15 -> 4111 | L13: ='Financial Statements'!F15 -> -5738 | M13: ='Financial Statements'!G15 -> -3004
B14: ='Financial Statements'!B16 -> Net investment hedges | J14: ='Financial Statements'!D16 -> 1971 | K14: ='Financial Statements'!E16 -> -2427 | L14: ='Financial Statements'!F16 -> 1607 | M14: ='Financial Statements'!G16 -> 1039
B15: ='Financial Statements'!B17 -> Cost of hedging | J15: ='Financial Statements'!D17 -> 155 | K15: ='Financial Statements'!E17 -> 0 | L15: ='Financial Statements'!F17 -> 0 | M15: ='Financial Statements'!G17 -> 0
B16: ='Financial Statements'!B18 -> Cash flow hedges:Net movement of hedging reserve related to hedging instruments recognised during the current year | J16: ='Financial Statements'!D18 -> -55 | K16: ='Financial Statements'!E18 -> -34 | L16: ='Financial Statements'!F18 -> -33 | M16: ='Financial Statements'!G18 -> 116
B17: ='Financial Statements'!B14 -> Income tax relating to items that will not be reclassified to profit or loss | J17: ='Financial Statements'!D14 -> -119 | K17: ='Financial Statements'!E14 -> -9 | L17: ='Financial Statements'!F14 -> 242 | M17: ='Financial Statements'!G14 -> -97
B18: ='Financial Statements'!B20 -> Income tax relating to items that may be reclassified subsequently to profit or loss | J18: ='Financial Statements'!D20 -> 97 | K18: ='Financial Statements'!E20 -> 83 | L18: ='Financial Statements'!F20 -> 91 | M18: ='Financial Statements'!G20 -> -78
B19: Total Other Operating Comprehensive Income | J19: =SUM(J12:J18) -> -1563 | K19: =SUM(K12:K18) -> 1753 | L19: =SUM(L12:L18) -> -3834 | M19: =SUM(M12:M18) -> -2041
B20: Other Financial Comprehensive Income
B21: ='Financial Statements'!B13 -> Share of other comprehensive income of joint ventures and associates that will not be reclassified to profit or loss | J21: ='Financial Statements'!D13 -> 696 | K21: ='Financial Statements'!E13 -> 32 | L21: ='Financial Statements'!F13 -> -1418 | M21: ='Financial Statements'!G13 -> 410
B22: ='Financial Statements'!B19 -> Share of other comprehensive income of joint ventures and associates | J22: ='Financial Statements'!D19 -> -246 | K22: ='Financial Statements'!E19 -> -303 | L22: ='Financial Statements'!F19 -> -546 | M22: ='Financial Statements'!G19 -> 149
B23: Total Other Financial Comprehensive Income | J23: =SUM(J21:J22) -> 450 | K23: =SUM(K21:K22) -> -271 | L23: =SUM(L21:L22) -> -1964 | M23: =SUM(M21:M22) -> 559
B24: Total Other Comprehensive Income | J24: =J19+J23 -> -1113 | K24: =K19+K23 -> 1482 | L24: =L19+L23 -> -5798 | M24: =M19+M23 -> -1482
B25: ='Financial Statements'!B22 -> Total comprehensive income | J25: ='Financial Statements'!D22 -> 6523 | K25: ='Financial Statements'!E22 -> 9801 | L25: ='Financial Statements'!F22 -> 619 | M25: ='Financial Statements'!G22 -> 6250
B26: ='Financial Statements'!B23 -> Special interim dividend in respect of the previous year declared and paid | J26: ='Financial Statements'!D23 -> -12806 | K26: ='Financial Statements'!E23 -> -10671 | L26: ='Financial Statements'!F23 -> 0 | M26: ='Financial Statements'!G23 -> 0
B27: ='Financial Statements'!B24 -> Final dividend in respect of the previous year approved and paid | J27: ='Financial Statements'!D24 -> -4333 | K27: ='Financial Statements'!E24 -> -4311 | L27: ='Financial Statements'!F24 -> -4311 | M27: ='Financial Statements'!G24 -> -4290
B28: ='Financial Statements'!B25 -> Interim dividend paid | J28: ='Financial Statements'!D25 -> -1643 | K28: ='Financial Statements'!E25 -> -1643 | L28: ='Financial Statements'!F25 -> -1494 | M28: ='Financial Statements'!G25 -> -1451
B29: ='Financial Statements'!B26 -> Special interim dividend paid | J29: ='Financial Statements'!D26 -> 0 | K29: ='Financial Statements'!E26 -> -16007 | L29: ='Financial Statements'!F26 -> 0 | M29: ='Financial Statements'!G26 -> 0
B30: ='Financial Statements'!B27 -> Special interim dividend declared after the end of the reporting period | J30: ='Financial Statements'!D27 -> 0 | K30: ='Financial Statements'!E27 -> 0 | L30: ='Financial Statements'!F27 -> 0 | M30: ='Financial Statements'!G27 -> 0
B31: ='Financial Statements'!B28 -> Proposed final dividend | J31: ='Financial Statements'!D28 -> 0 | K31: ='Financial Statements'!E28 -> 0 | L31: ='Financial Statements'!F28 -> 0 | M31: ='Financial Statements'!G28 -> 0
B32: ='Financial Statements'!B29 -> Closing balance | J32: =J8+J10+J24+J26+J27+J28+J29+J30+J31 -> 83557 | K32: =K8+K10+K24+K26+K27+K28+K29+K30+K31 -> 95580 | L32: =L8+L10+L24+L26+L27+L28+L29+L30+L31 -> 118411 | M32: =M8+M10+M24+M26+M27+M28+M29+M30+M31 -> 123597
B33: ='Financial Statements'!B30 -> Impact on initial application of HKFRS 9 | J33: ='Financial Statements'!D30 -> 0 | K33: ='Financial Statements'!E30 -> 236 | L33: ='Financial Statements'!F30 -> 0 | M33: ='Financial Statements'!G30 -> 0
B35: =+'Financial Statements'!B2:G2 -> Power Assets
B36: Restated Statements of Financial Position
B37: =+'Financial Statements'!B34:G34 -> as at 31 December
D38: 2004 | E38: 2005 | F38: 2006 | G38: 2007 | H38: 2008 | I38: 2009 | J38: =+'Financial Statements'!D5 -> 2018 | K38: =+'Financial Statements'!E5 -> 2017 | L38: =+'Financial Statements'!F5 -> 2016 | M38: =+'Financial Statements'!G5 -> 2015
D39: $'000 | E39: $'000 | F39: $'000 | G39: $'000 | H39: $'000 | I39: $'000 | J39: =+K39 -> HK$'000 | K39: =+K6 -> HK$'000 | L39: =+L6 -> HK$'000 | M39: =+M6 -> HK$'000
B40: Operating Liabilities
B41: ='Financial Statements'!B55 -> Trade and other payables | J41: ='Financial Statements'!D55 -> -4063 | K41: ='Financial Statements'!E55 -> -3197 | L41: ='Financial Statements'!F55 -> -2595 | M41: ='Financial Statements'!G55 -> -2078
B42: ='Financial Statements'!B57 -> Current tax payable | J42: ='Financial Statements'!D57 -> -9 | K42: ='Financial Statements'!E57 -> -91 | L42: ='Financial Statements'!F57 -> -46 | M42: ='Financial Statements'!G57 -> -41
...

Sheet Ratios
J1: Documentation
B2: =+'Financial Statements'!B2:G2 -> Power Assets | J2: This is an area where we can put documentation.
B3: RATIOS
B4: =+'Financial Statements'!B4:G4 -> as at 31 December
D5: =+'Financial Statements'!D5 -> 2018 | E5: =+'Financial Statements'!E5 -> 2017 | F5: =+'Financial Statements'!F5 -> 2016 | G5: =+'Financial Statements'!G5 -> 2015
B6: Profitability Ratios
B7: Gross Profit Margin | C7: Gross profit/sales | G7: 0.1926
B8: Net Profit Margin | C8: Net profit after tax/sales
B9: Return on Assets | C9: Net profit after tax/total assets
B11: Efficiency (or Asset Management) Ratios
B12: Inventory Turnover Ratio | C12: Cost of goods sold/ending inventory | G12: 1.892
B13: Days of Inventory | C13: Inventory/av.daily cost of goods sold
B14: Total Asset Turnover Ratio | C14: Sales/total assets
B15: Current Asset Turnover Ratio | C15: Sales/current assets
B16: Average Collection Period (Days Receivable) | C16: Accounts receivable/av.daily credit sales
B18: Liquidity Ratios
B19: Current Ratio | C19: Current assets/current liabilities | J19: Notes Area
B20: Quick Ratio 1 | C20: (Current assets - inventory - prepayments)/current liabilities | G20: 0.009 | J20: This area is designed as a space to write notes to yourself. Hopefully this will save you the hassle of attempting to find the pen and paper that is somewhere in the bottom of your bag.
B21: Quick Ratio 2 | C21: (Current assets - inventory - prepayments - receivables)/current liabilities
B23: Financial Structure Ratios
B24: Debt/Equity Ratio | C24: Debt/equity
B25: Equity Ratio | C25: Equity/total assets
B26: Times Interest Earned | C26: Earnings before interest & tax/interest
B28: Market Ratios
B29: Earnings per Share (EPS) | C29: Net profit after tax/nos of issued ordinary shares
B30: Dividends per Share (DPS) | C30: Dividends/number of issued ordinary shares
B31: Dividend Yield Ratio | C31: Dividends per share/market price per share
B32: Price Earnings Ratio | C32: Market price per share/earnings per share
B33: Net Asset Backing per Share Ratio | C33: Net assets (owners equity)/number of shares issued
B34: Market/Book Ratio | C34: Market price per share/net asset backing per share | G34: 0.052
B36: Ratios Based on Reformulated Financial Statements
B37: Dividend Payout Ratio | C37: Dividends/comprehensive income
B38: Return on Equity (ROE) | C38: Comprehensive Income/shareholders' equity
B39: Return on Net Operating Assets (RNOA) | C39: Operating income after tax (OI)/net operating assets (NOA)
B40: Net Borrowing Cost (NBC) | C40: Net fin. expenses after tax/net financial obligations
B41: Profit Margin (PM) | C41: Operating income after tax (OI)/sales
B42: Operating Liability Leverage (OLLEV) | C42: Av.operating liabilities/av.net operating assets
B43: Financial Leverage (FLEV) | C43: Av.net financial obligations/av.shareholders' equity
B44: Return on Operating Assets (ROOA) | C44: (OI after tax + implicit interest after tax)/av.operating assets
B45: Operating Liability Leverage Spread (OLSPREAD) | C45: ROOA - short-term borrowing rate (after tax)
...

Sheet Working
B1: Working Area | O1: Notes Area
B2: This is a place where you can copy and paste forumlas, play with calculations and generally have fun without messing up your other worksheets. | O2: This area is designed as a space to write notes to yourself. Hopefully this will save you the hassle of attempting to find the pen and paper that is somewhere in the bottom of your bag.

Sheet NPV & IRR
A1: EXAMPLE FOR WESFARMERS
A3: ALL FIGURES ARE EXPRESSED IN MILLIONS AUD
A5: OPTION 1: BUNNINGS
A7: Time period | B7: 0 | C7: 1 | D7: 2 | E7: 3 | F7: 4 | G7: 5 | H7: 6 | I7: 7 | J7: 8 | K7: 9 | L7: 10
A8: Cashflow | B8: -77 | C8: -4 | D8: 5 | E8: 15 | F8: 20 | G8: 20 | H8: 20 | I8: 25 | J8: 25 | K8: 10 | L8: =11+2 -> 13
A9: NPV | B9: =NPV(0.1,C8:L8)+B8 -> 5.8784404
A11: IRR | B11: =IRR(B8:L8, 0.1) -> 0.11370811
A13: Time period | B13: 0 | C13: 1 | D13: 2 | E13: 3 | F13: 4 | G13: 5 | H13: 6 | I13: 7 | J13: 8 | K13: 9 | L13: 10
A14: Cashflow | B14: -77 | C14: -4 | D14: 5 | E14: 15 | F14: 20 | G14: 20 | H14: 20 | I14: 25 | J14: 25 | K14: 10 | L14: =11+2 -> 13
A15: Cumulative Cashflow | B15: =B14 -> -77 | C15: =B15+C14 -> -81 | D15: =C15+D14 -> -76 | E15: =D15+E14 -> -61 | F15: =E15+F14 -> -41 | G15: =F15+G14 -> -21 | H15: =G15+H14 -> -1 | I15: =H15+I14 -> 24 | J15: =I15+J14 -> 49 | ... L15: =K15+L14 -> 72
A17: Payback Period | B17: 6 years | C17: =-$H$15/$I$14*365 -> 14.6 | D17: days
C18: =-$H$15/$I$14*12 -> 0.48 | D18: months
C19: =-$H$15/$I$14 -> 0.04 | D19: years
A22: OPTION 2: COLES
A24: Time period | B24: 0 | C24: 1 | D24: 2 | E24: 3 | F24: 4 | G24: 5 | H24: 6 | I24: 7 | J24: 8 | K24: 9 | L24: 10
A25: Cashflow | B25: -135 | C25: -5 | D25: -1 | E25: 10 | F25: 15 | G25: 15 | H25: 20 | I25: 20 | J25: 20 | K25: 25 | L25: =15-1.5 -> 13.5
A26: NPV | B26: =NPV(0.1,C25:L25)+B25 -> -66.609668
A28: IRR | B28: =IRR(B25:L25, 0.1) -> -0.0026354084
A30: Time period | B30: 0 | C30: 1 | D30: 2 | E30: 3 | F30: 4 | G30: 5 | H30: 6 | I30: 7 | J30: 8 | K30: 9 | L30: 10
A31: Cashflow | B31: -135 | C31: -5 | D31: -1 | E31: 10 | F31: 15 | G31: 15 | H31: 20 | I31: 20 | J31: 20 | K31: 25 | L31: =15-1.5 -> 13.5
A32: Cumulative Cashflow | B32: =B31 -> -135 | C32: =B32+C31 -> -140 | D32: =C32+D31 -> -141 | E32: =D32+E31 -> -131 | F32: =E32+F31 -> -116 | G32: =F32+G31 -> -101 | H32: =G32+H31 -> -81 | I32: =H32+I31 -> -61 | J32: =I32+J31 -> -41 | ... L32: =K32+L31 -> -2.5
A34: Payback Period | B34: Investment is never paid back within 10 years
